BEGIN:VCALENDAR
VERSION:2.0
PRODID:-//ATHENA - ECPv6.15.20//NONSGML v1.0//EN
CALSCALE:GREGORIAN
METHOD:PUBLISH
X-ORIGINAL-URL:https://www.asso-athena.fr
X-WR-CALDESC:Évènements pour ATHENA
REFRESH-INTERVAL;VALUE=DURATION:PT1H
X-Robots-Tag:noindex
X-PUBLISHED-TTL:PT1H
BEGIN:VTIMEZONE
TZID:Europe/Paris
BEGIN:DAYLIGHT
TZOFFSETFROM:+0100
TZOFFSETTO:+0200
TZNAME:CEST
DTSTART:20230326T010000
END:DAYLIGHT
BEGIN:STANDARD
TZOFFSETFROM:+0200
TZOFFSETTO:+0100
TZNAME:CET
DTSTART:20231029T010000
END:STANDARD
BEGIN:DAYLIGHT
TZOFFSETFROM:+0100
TZOFFSETTO:+0200
TZNAME:CEST
DTSTART:20240331T010000
END:DAYLIGHT
BEGIN:STANDARD
TZOFFSETFROM:+0200
TZOFFSETTO:+0100
TZNAME:CET
DTSTART:20241027T010000
END:STANDARD
BEGIN:DAYLIGHT
TZOFFSETFROM:+0100
TZOFFSETTO:+0200
TZNAME:CEST
DTSTART:20250330T010000
END:DAYLIGHT
BEGIN:STANDARD
TZOFFSETFROM:+0200
TZOFFSETTO:+0100
TZNAME:CET
DTSTART:20251026T010000
END:STANDARD
END:VTIMEZONE
BEGIN:VEVENT
DTSTART;TZID=Europe/Paris:20240706T140000
DTEND;TZID=Europe/Paris:20240706T170000
DTSTAMP:20260426T060443
CREATED:20240227T092738Z
LAST-MODIFIED:20240227T130952Z
UID:3551-1720274400-1720285200@www.asso-athena.fr
SUMMARY:Défi Alimentation : Cuisiner les plantes sauvages
DESCRIPTION:Atelier uniquement sur inscription\, places limitées. Si vous souhaitez vous inscrire\, contactez nous par mail accueil@asso-athena.fr ou par téléphone au 06 36 29 08 99
URL:https://www.asso-athena.fr/sortiecal/defi-alimentation-cuisiner-les-plantes-sauvages/
LOCATION:Vendôme\, 41100\, France
CATEGORIES:Loir-et-Cher
ATTACH;FMTTYPE=image/jpeg:https://www.asso-athena.fr/wp-content/uploads/2024/02/23-05-24-defi-vendome-plantes-sauvages-8-scaled.jpg
ORGANIZER;CN="ATHENA":MAILTO:accueil@asso-athena.fr
END:VEVENT
END:VCALENDAR