BEGIN:VCALENDAR
VERSION:2.0
PRODID:-//ATHENA - ECPv6.15.20//NONSGML v1.0//EN
CALSCALE:GREGORIAN
METHOD:PUBLISH
X-WR-CALNAME:ATHENA
X-ORIGINAL-URL:https://www.asso-athena.fr
X-WR-CALDESC:Évènements pour ATHENA
REFRESH-INTERVAL;VALUE=DURATION:PT1H
X-Robots-Tag:noindex
X-PUBLISHED-TTL:PT1H
BEGIN:VTIMEZONE
TZID:Europe/Paris
BEGIN:DAYLIGHT
TZOFFSETFROM:+0100
TZOFFSETTO:+0200
TZNAME:CEST
DTSTART:20230326T010000
END:DAYLIGHT
BEGIN:STANDARD
TZOFFSETFROM:+0200
TZOFFSETTO:+0100
TZNAME:CET
DTSTART:20231029T010000
END:STANDARD
BEGIN:DAYLIGHT
TZOFFSETFROM:+0100
TZOFFSETTO:+0200
TZNAME:CEST
DTSTART:20240331T010000
END:DAYLIGHT
BEGIN:STANDARD
TZOFFSETFROM:+0200
TZOFFSETTO:+0100
TZNAME:CET
DTSTART:20241027T010000
END:STANDARD
BEGIN:DAYLIGHT
TZOFFSETFROM:+0100
TZOFFSETTO:+0200
TZNAME:CEST
DTSTART:20250330T010000
END:DAYLIGHT
BEGIN:STANDARD
TZOFFSETFROM:+0200
TZOFFSETTO:+0100
TZNAME:CET
DTSTART:20251026T010000
END:STANDARD
END:VTIMEZONE
BEGIN:VEVENT
DTSTART;TZID=Europe/Paris:20240502T143000
DTEND;TZID=Europe/Paris:20240502T170000
DTSTAMP:20260425T140303
CREATED:20240226T142907Z
LAST-MODIFIED:20240227T140225Z
UID:3525-1714660200-1714669200@www.asso-athena.fr
SUMMARY:Défi alimentation : équilibrer son assiette végétarienne
DESCRIPTION:Atelier uniquement sur inscription
URL:https://www.asso-athena.fr/sortiecal/defi-alimentation-equilibrer-son-assiette-vegetarienne/
LOCATION:Vendôme\, 41100\, France
CATEGORIES:Loir-et-Cher
ATTACH;FMTTYPE=image/jpeg:https://www.asso-athena.fr/wp-content/uploads/2024/02/photo_2023-02-27_13-26-09.jpg
ORGANIZER;CN="ATHENA":MAILTO:accueil@asso-athena.fr
END:VEVENT
END:VCALENDAR